BEGIN:VCALENDAR
VERSION:2.0
PRODID:-//Centrum právní komparatistiky//NONSGML Events//EN
CALSCALE:GREGORIAN
X-ORIGINAL-URL:https://komparatistika.cz/cs/events/event/
X-WR-CALDESC:Centrum právní komparatistiky - Events
BEGIN:VEVENT
UID:20210930T1905Z-1633028733,2561-EO-2433-1@195.113.8.40
STATUS:CONFIRMED
DTSTAMP:20260422T133919Z
CREATED:20210929T145350Z
LAST-MODIFIED:20210929T145835Z
DTSTART;TZID=Europe/Prague:20211007T173000
DTEND;TZID=Europe/Prague:20211007T190000
SUMMARY: Absolutní odpovědnost za škodu? Na příkladu škody způsobené pádem 
 budovy
DESCRIPTION: Luboš Tichý. Přednáška v rámci Fór CPK Převážná většina českýc
 h autorů považuje odpovědnost za škodu způsobenou pádem budovy podle § 2938
  občanského zákoníku za objektivní odpovědnost absolutní formy. To je dobrý
  důvod zabývat se tímto pojmem a ozřejmit jeho meze a zejména vztah k odpov
 ědnosti za zavinění. Na základě těchto poznatků je pak možné provést […]
X-ALT-DESC;FMTTYPE=text/html: <p>Luboš Tichý. Přednáška v rámci Fór CPK</p>
 <p><span lang="CS">Převážná většina českých autorů považuje odpovědnost za 
 škodu způsobenou pádem budovy podle § 2938 občanského zákoníku za objektivn
 í odpovědnost absolutní formy. To je dobrý důvod zabývat se tímto pojmem a 
 ozřejmit jeho meze a zejména vztah k odpovědnosti za zavinění. Na základě t
 ěchto poznatků je pak možné provést analýzu zvláštní úpravy deliktní odpově
 dnosti za škodu podle § 2938 občanského zákoníku a dovodit\, že v tomto pří
 padě je adekvátním řešením odpovědnost za presumované zavinění s obrácením 
 důkazního břemene.</span></p><p>Možné připojení přes Skype: <a href="https:
 //join.skype.com/g6Oqj57jq1eJ">https://join.skype.com/g6Oqj57jq1eJ</a></p>
CATEGORIES:Fóra CPK
LOCATION:místnost č. 214\, II. patro
GEO:50.091541;14.417004
ORGANIZER;CN="Halka Kolaříková":MAILTO:kolarikova@prf.cuni.cz
URL;VALUE=URI:https://komparatistika.cz/cs/events/event/absolutni-odpovedno
 st-za-skodu-na-prikladu-skody-zpusobene-padem-budovy/
END:VEVENT
BEGIN:VTIMEZONE
TZID:Europe/Prague
BEGIN:DAYLIGHT
TZOFFSETFROM:+0100
TZOFFSETTO:+0200
DTSTART:20210328T010000
TZNAME:CEST
END:DAYLIGHT
END:VTIMEZONE
END:VCALENDAR
