BEGIN:VCALENDAR
VERSION:2.0
PRODID:-//Centrum právní komparatistiky//NONSGML Events//EN
CALSCALE:GREGORIAN
X-ORIGINAL-URL:https://komparatistika.cz/cs/events/event/
X-WR-CALDESC:Centrum právní komparatistiky - Events
BEGIN:VEVENT
UID:20171104T1601Z-1509811274.8251-EO-1442-1@195.113.8.40
STATUS:CONFIRMED
DTSTAMP:20260422T222805Z
CREATED:20171104T084934Z
LAST-MODIFIED:20190308T111210Z
DTSTART;TZID=Europe/Prague:20171130T173000
DTEND;TZID=Europe/Prague:20171130T190000
SUMMARY: Advokátní úschova peněz aneb kdo má kdy jaký nárok vůči komu
DESCRIPTION: přednáška T. Troupa Advokátní úschova peněz ...\, od 17.30\, 3
 0. 11.\, místnost č. 401
X-ALT-DESC;FMTTYPE=text/html: <p>Mgr. Tomáš Troup\, LL.M.</p><p>Institut ad
 vokátní úschovy je institutem správy cizího majetku\, z čehož bývá bez dalš
 ího dovozováno zdánlivě jasné řešení - peníze\, složené klientem advokáta n
 a jeho bankovní účet\, zůstávají v majetku klienta. Je tomu ale skutečně ta
 k? Co když dojde ke smísení peněz v úschově s jinými penězi? Jak se bude ře
 šit situace\, když ohledně advokáta bude vedena exekuce či insolvenční říze
 ní\; budou pak moci klienti advokáta získat své peníze vylučovací žalobou z
 pět\, anebo jim zůstane jen nedobytná nezajištěná pohledávka? Jak se bude ř
 ešit situace\, kdy bude naopak vedena exekuce či insolvenční řízení ohledně
  klienta advokáta\; budou moci věřitelé klienta advokáta nějak postihnout p
 eníze v advokátní úschově? Na tyto a další otázky bude odpovídáno nejen za 
 pomoci českých\, ale i německých doktrinálních a judikatorních zdrojů</p><p
 ><a href="http://komparatistika.cz/wp-content/uploads/2017-11-30-TT.pdf">20
 17-11-30 TT</a></p><p> </p>
CATEGORIES:Fóra CPK
LOCATION:PF UK\, místnost č. 401
GEO:50.091431;14.416880
ORGANIZER;CN="Halka Kolaříková":MAILTO:kolarikova@prf.cuni.cz
URL;VALUE=URI:https://komparatistika.cz/cs/events/event/advokatni-uschovna-
 penez-aneb-kdo-ma-kdy-jaky-narok-vuci-komu/
END:VEVENT
BEGIN:VTIMEZONE
TZID:Europe/Prague
BEGIN:STANDARD
TZOFFSETFROM:+0200
TZOFFSETTO:+0100
DTSTART:20171029T010000
TZNAME:CET
END:STANDARD
END:VTIMEZONE
END:VCALENDAR
