BEGIN:VCALENDAR
VERSION:2.0
PRODID:-//Centrum právní komparatistiky//NONSGML Events//EN
CALSCALE:GREGORIAN
X-ORIGINAL-URL:https://komparatistika.cz/cs/events/event/
X-WR-CALDESC:Centrum právní komparatistiky - Events
BEGIN:VEVENT
UID:20190307T1902Z-1551985346.3131-EO-1814-1@195.113.8.40
STATUS:CONFIRMED
DTSTAMP:20260422T193437Z
CREATED:20190306T141928Z
LAST-MODIFIED:20190306T141928Z
DTSTART;TZID=Europe/Prague:20190321T173000
DTEND;TZID=Europe/Prague:20190321T190000
SUMMARY: Autonomie vůle a české právo
DESCRIPTION: Petra Pipková\, Autonomie vůle a české právo\, 21. 3. 2019\, 1
 7.30\, místnost č. 401
X-ALT-DESC;FMTTYPE=text/html: <p>JUDr. Petra Pipková\, Ph.D.\, LL.M.eur</p>
 <p>Příspěvek navazuje na příspěvek na Fóru CPK 11. 10. 2018\, který se zabý
 val smluvní autonomií z obecného teoretického hlediska. Nyní se příspěvek z
 aměří na fungování smluvní autonomie v českém právu\, resp. na její projevy
  v něm. Český zákonodárce se v současném občanském zákoníku významně přihlá
 sil k principu smluvní autonomie\, nicméně i české právo smluvní autonomii 
 stanoví její hranice. I těmi se bude příspěvek zabývat.</p><p><span style="
 color: #000000\; font-family: Calibri\;"> </span></p><p> </p>
CATEGORIES:Fóra CPK
LOCATION:PF UK\, místnost č. 401
GEO:50.091431;14.416880
ORGANIZER;CN="Halka Kolaříková":MAILTO:kolarikova@prf.cuni.cz
URL;VALUE=URI:https://komparatistika.cz/cs/events/event/autonomie-vule-a-ce
 ske-pravo/
END:VEVENT
BEGIN:VTIMEZONE
TZID:Europe/Prague
BEGIN:STANDARD
TZOFFSETFROM:+0200
TZOFFSETTO:+0100
DTSTART:20181028T010000
TZNAME:CET
END:STANDARD
END:VTIMEZONE
END:VCALENDAR
