BEGIN:VCALENDAR
VERSION:2.0
PRODID:-//Centrum právní komparatistiky//NONSGML Events//EN
CALSCALE:GREGORIAN
X-ORIGINAL-URL:https://komparatistika.cz/cs/events/event/
X-WR-CALDESC:Centrum právní komparatistiky - Events
BEGIN:VEVENT
UID:20181212T1151Z-1544615487.679-EO-1767-1@195.113.8.40
STATUS:CONFIRMED
DTSTAMP:20260422T193406Z
CREATED:20181205T152601Z
LAST-MODIFIED:20181213T121401Z
DTSTART;TZID=Europe/Prague:20181128T173000
DTEND;TZID=Europe/Prague:20181128T173000
SUMMARY: Bailment\; Druhy smluv\, II. část
DESCRIPTION: V. Zvánovec\, Bailment\; L. Tichý\, Druhy smluv\, II. část\, m
 ístnost č. 405\, 28.11.2018\, od 17.30
X-ALT-DESC;FMTTYPE=text/html: <p><strong>Mgr. Vít Zvánovec\, Bailment</stro
 ng></p><p>Angloamerický institut bailment je zvláštní institut na pomezí ús
 chovy\, zajištění a převodu majetku. V kontinentálním právu je neznámý. Jeh
 o podstatou je\, že zřizovatel poskytuje nabyvateli pouze držbu/detenci (ma
 jitelství). Přednáška vyšetří podobnosti a odchylky mezi bailment jako akce
 sorickým právním jednáním a smlouvou o úschově jako kausálním smluvním type
 m\, mezi bailment a smluvním zcizením\, tj. převodem\, movité věci. Dotkne 
 se rovněž významu konsensuální v. dvoufázové koncepce nabytí vlastnictví a 
 právního jednání pro vznik závazku.</p><p><strong>Prof. L. Tichý\, Druhy sm
 luv\, II. část: nepojmenovaná smlouva\, smlouva ve prospěch a na ochranu tř
 etího\, další druhy smluv</strong></p><p>Výklad smluv ve prospěch třetího s
 e soustřeďuje na vymezení tohoto institutu a definici práva pravé a nepravé
  smlouvy ve prospěch třetího a postavení třetího. Rozebírány jsou povinnost
 i ochrany a péče smluvní strany a odpovědnost za jejich porušení\, jakož i 
 jejich následky. Vymezuje se rozdíl mezi smlouvou ve prospěch třetího a sml
 ouvou na ochranu třetího s ohledem na postavení chráněné osoby. Pozornost s
 e soustředí i na následky smlouvy k tíži třetího zejména s ohledem na práva
  znevýhodněné třetí osoby.</p>
CATEGORIES:Fóra CPK
LOCATION:Právnická fakulta UK
GEO:50.091541;14.417004
ORGANIZER;CN="Halka Kolaříková":MAILTO:kolarikova@prf.cuni.cz
URL;VALUE=URI:https://komparatistika.cz/cs/events/event/bailment-druhy-smlu
 v-ii-cast/
END:VEVENT
BEGIN:VTIMEZONE
TZID:Europe/Prague
BEGIN:STANDARD
TZOFFSETFROM:+0200
TZOFFSETTO:+0100
DTSTART:20181028T010000
TZNAME:CET
END:STANDARD
END:VTIMEZONE
END:VCALENDAR
