BEGIN:VCALENDAR
VERSION:2.0
PRODID:-//Centrum právní komparatistiky//NONSGML Events//EN
CALSCALE:GREGORIAN
X-ORIGINAL-URL:https://komparatistika.cz/cs/events/event/
X-WR-CALDESC:Centrum právní komparatistiky - Events
BEGIN:VEVENT
UID:20190307T1912Z-1551985926.2697-EO-1817-1@195.113.8.40
STATUS:CONFIRMED
DTSTAMP:20260422T210518Z
CREATED:20190306T142636Z
LAST-MODIFIED:20190306T142636Z
DTSTART;TZID=Europe/Prague:20190418T173000
DTEND;TZID=Europe/Prague:20190418T190000
SUMMARY: Consideration a kauza závazku
DESCRIPTION: Jan Balarin\, Consideration a kauza závazku\, 18. 4. 2019\, od
  17.30\, místnost č. 401
X-ALT-DESC;FMTTYPE=text/html: <p>Mgr. Jan Balarin\, Ph.D.</p><p><em>Conside
 ration</em> je tradičním konceptem smluvního práva common law: žalovatelný 
 smluvní závazek může vzniknout pouze tehdy\, je-li podpořen protiplněním. C
 hybí-li protiplnění\, jedná se o <em>nudum pactum</em>\, jehož splnění nemů
 že být vynuceno cestou práva. <em>Consideration</em> představuje jeden z mo
 žných přístupů k řešení problému\, se kterým se musí vypořádávat všechny pr
 ávní systémy\, totiž kterým slibům\, které činí účastníci právního styku\, 
 má být poskytnuta právní ochrana. Kontinentální právo věnuje ze stejného dů
 vodu pozornost kauze (právnímu důvodu) závazku. Tento koncept je sice tradi
 čně vstřícnější k vymahatelnosti altruistických závazků než common law\, na
  druhé straně nenabízí tak objektivizovatelné a v ekonomické racionalitě za
 kotvené kritérium\, jakým je právě <em>consideration</em>. Předmětem diskus
 e budou výhody a nevýhody obou přístupů a jejich perspektivy se zaměřením n
 a praxi v jurisdikcích common law.</p>
CATEGORIES:Fóra CPK
ORGANIZER;CN="Halka Kolaříková":MAILTO:kolarikova@prf.cuni.cz
URL;VALUE=URI:https://komparatistika.cz/cs/events/event/consideration-a-kau
 za-zavazku/
END:VEVENT
BEGIN:VTIMEZONE
TZID:Europe/Prague
BEGIN:DAYLIGHT
TZOFFSETFROM:+0100
TZOFFSETTO:+0200
DTSTART:20190331T010000
TZNAME:CEST
END:DAYLIGHT
END:VTIMEZONE
END:VCALENDAR
