BEGIN:VCALENDAR
VERSION:2.0
PRODID:-//Centrum právní komparatistiky//NONSGML Events//EN
CALSCALE:GREGORIAN
X-ORIGINAL-URL:https://komparatistika.cz/cs/events/event/
X-WR-CALDESC:Centrum právní komparatistiky - Events
BEGIN:VEVENT
UID:20150831T2200Z-1441058426.7104-EO-554-1@195.113.8.40
STATUS:CONFIRMED
DTSTAMP:20260423T001137Z
CREATED:20150517T070338Z
LAST-MODIFIED:20191026T022344Z
DTSTART;TZID=Europe/Prague:20150514T173000
DTEND;TZID=Europe/Prague:20150514T190000
SUMMARY: Dobré mravy\, jejich obsah\, použití a následky rozporu právního j
 ednání s tímto principem
DESCRIPTION: Přednášející: Prof. Dr. Christoph Schärtl\, Univerzita Heidelb
 erg. Přednáška se koná dne 14. 5. 2015 od 17.30\, v místnosti č. 404\, Práv
 nická fakulta UK.
X-ALT-DESC;FMTTYPE=text/html: <p>Přednášející: Prof. Dr. Christoph Schärtl\
 , Univerzita Heidelberg.</p><p>Přednáška se koná dne 14. 5. 2015 od 17.30\,
  v místnosti č. 404\, Právnická fakulta UK.</p>
CATEGORIES:Fóra CPK
ORGANIZER;CN="Halka Kolaříková":MAILTO:kolarikova@prf.cuni.cz
URL;VALUE=URI:https://komparatistika.cz/cs/events/event/dobre-mravy-jejich-
 obsah-pouziti-a-nasledky-rozporu-pravniho-jednani-s-timto-principem/
END:VEVENT
BEGIN:VTIMEZONE
TZID:Europe/Prague
BEGIN:DAYLIGHT
TZOFFSETFROM:+0100
TZOFFSETTO:+0200
DTSTART:20150329T010000
TZNAME:CEST
END:DAYLIGHT
END:VTIMEZONE
END:VCALENDAR
