BEGIN:VCALENDAR
VERSION:2.0
PRODID:-//Centrum právní komparatistiky//NONSGML Events//EN
CALSCALE:GREGORIAN
X-ORIGINAL-URL:https://komparatistika.cz/cs/events/event/
X-WR-CALDESC:Centrum právní komparatistiky - Events
BEGIN:VEVENT
UID:20200216T1504Z-1581865461.5287-EO-2140-1@195.113.8.40
STATUS:CONFIRMED
DTSTAMP:20260422T163948Z
CREATED:20200215T064238Z
LAST-MODIFIED:20200330T100531Z
DTSTART;TZID=Europe/Prague:20200423T173000
DTEND;TZID=Europe/Prague:20200423T190000
SUMMARY: Doktrína ultra vires se zvláštním zřetelem k problematice svéprávn
 osti a právní subjektivity
DESCRIPTION: V. Zvánovec\, Doktrína ultra vires se zvláštním zřetelem k pro
 blematice svéprávnosti a právní subjektivity\, 23.4.2020\, místnost č. 401\
 , od 17.30
X-ALT-DESC;FMTTYPE=text/html: <p>PŘEDNÁŠKA ZRUŠENA</p><p>Mgr. Vít Zvánovec<
 /p><p>Zatímco nikdo nikdy nepochyboval\, že svéprávnost (dříve způsobilost 
 k právním úkonům) je omezitelná\, u právní subjektivity (dnes právní osobno
 sti) o tom dodnes panují pochybnosti. Vycházejíc z kritiky rozsudku NS ČR s
 p. zn. 29 Cdo 3269/2010 se přednáška vyrovná s touto doktrínou na příkladu 
 společenství vlastníků jednotek\, kde praxe tápe\, co všechno smí společens
 tví s ohledem na předmět své činnosti činit. Přednáška se dotkne i nálezu S
 lovenské důchody\, v němž Ústavní soud konstatoval\, že Evropský soudní dvů
 r postupuje ultra vires.</p>
CATEGORIES:Fóra CPK
LOCATION:PF UK\, místnost č. 401
GEO:50.091431;14.416880
ORGANIZER;CN="Halka Kolaříková":MAILTO:kolarikova@prf.cuni.cz
URL;VALUE=URI:https://komparatistika.cz/cs/events/event/doktrina-ultra-vire
 s-se-zvlastnim-zretelem-k-problematice-svepravnosti-a-pravni-subjektivity/
END:VEVENT
BEGIN:VTIMEZONE
TZID:Europe/Prague
BEGIN:DAYLIGHT
TZOFFSETFROM:+0100
TZOFFSETTO:+0200
DTSTART:20200329T010000
TZNAME:CEST
END:DAYLIGHT
END:VTIMEZONE
END:VCALENDAR
