BEGIN:VCALENDAR
VERSION:2.0
PRODID:-//Centrum právní komparatistiky//NONSGML Events//EN
CALSCALE:GREGORIAN
X-ORIGINAL-URL:https://komparatistika.cz/cs/events/event/
X-WR-CALDESC:Centrum právní komparatistiky - Events
BEGIN:VEVENT
UID:20180324T0101Z-1521853312.8369-EO-1648-1@195.113.8.40
STATUS:CONFIRMED
DTSTAMP:20260422T211013Z
CREATED:20180319T102752Z
LAST-MODIFIED:20181213T122346Z
DTSTART;TZID=Europe/Prague:20180412T173000
DTEND;TZID=Europe/Prague:20180412T190000
SUMMARY: Kolektivní vymáhání spotřebitelských práv ve státech Visegrádské s
 kupiny (V4)
DESCRIPTION: Rita Simon\, Kolektivní vymáhání spotřebitelských práv ...\, 1
 2. 4. od 17.30 v místnosti č. 401
X-ALT-DESC;FMTTYPE=text/html: <p>Přednášející: Dr. Rita Simon</p><p>Následk
 y porušování předpisů v oblasti nekalých obchodních praktik vůči spotřebite
 lům mohou škodit velké skupině osob. Navzdory  právním požadavkům evropskéh
 o práva jsou mechanismy kolektivního odškodnění v zemích Visegradské čtyřky
  nedostatečné z důvodu vysokých soudních poplatků a rizika neúspěchu nebo c
 hybějících procesních rámců  ve prospěch spotřebitelských organizací. Po úv
 odu do problematiky spotřebitelských hromadných škod a různých přístupů mez
 i evropskými a americkými modely třídních žalob přednáška představí stávají
 cí modely ve státech Visegrádu 4.</p><p><a href="http://komparatistika.cz/w
 p-content/uploads/2018-04-12-RS.pdf">2018-04-12 RS</a></p>
CATEGORIES:Fóra CPK
LOCATION:PF UK\, místnost č. 401
GEO:50.091431;14.416880
ORGANIZER;CN="Halka Kolaříková":MAILTO:kolarikova@prf.cuni.cz
URL;VALUE=URI:https://komparatistika.cz/cs/events/event/kolektivni-vymahani
 -spotrebitelskych-prav-ve-statech-visegradske-skupiny-v4/
END:VEVENT
BEGIN:VTIMEZONE
TZID:Europe/Prague
BEGIN:DAYLIGHT
TZOFFSETFROM:+0100
TZOFFSETTO:+0200
DTSTART:20180325T010000
TZNAME:CEST
END:DAYLIGHT
END:VTIMEZONE
END:VCALENDAR
