BEGIN:VCALENDAR
VERSION:2.0
PRODID:-//Centrum právní komparatistiky//NONSGML Events//EN
CALSCALE:GREGORIAN
X-ORIGINAL-URL:https://komparatistika.cz/cs/events/event/
X-WR-CALDESC:Centrum právní komparatistiky - Events
BEGIN:VEVENT
UID:20150524T0300Z-1432436417.777-EO-538-1@195.113.8.40
STATUS:CONFIRMED
DTSTAMP:20260422T235101Z
CREATED:20150517T052053Z
LAST-MODIFIED:20190308T110609Z
DTSTART;TZID=Europe/Prague:20150416T173000
DTEND;TZID=Europe/Prague:20150416T190000
SUMMARY: Leniency a jeho vztah k dokazování
DESCRIPTION: Přednášející: JUDr. Petra Pipková. Program leniency (program s
 hovívavosti) je považován za jeden z nejdůležitějších nástrojů odhalování a
  potlačování horizontálních kartelů. Z tohoto důvodu se příspěvek bude nejp
 rve krátce zabývat otázkou jeho využití. Hlavní těžiště příspěvku se však b
 ude týkat důkazní hodnoty prohlášení žadatele o leniency (tzv. corporate st
 atements)\, jimž je v rozhodovací praxi zpravidla automaticky přisuzováno m
 imořádné postavení […]
X-ALT-DESC;FMTTYPE=text/html: <p>Přednášející: JUDr. Petra Pipková.</p><p>P
 rogram leniency (program shovívavosti) je považován za jeden z nejdůležitěj
 ších nástrojů odhalování a potlačování horizontálních kartelů. Z tohoto dův
 odu se příspěvek bude nejprve krátce zabývat otázkou jeho využití. Hlavní t
 ěžiště příspěvku se však bude týkat důkazní hodnoty prohlášení žadatele o l
 eniency (tzv. corporate statements)\, jimž je v rozhodovací praxi zpravidla
  automaticky přisuzováno mimořádné postavení v rámci hodnocení důkazů.</p>
CATEGORIES:Fóra CPK
ORGANIZER;CN="Halka Kolaříková":MAILTO:kolarikova@prf.cuni.cz
URL;VALUE=URI:https://komparatistika.cz/cs/events/event/leniency-a-jeho-vzt
 ah-k-dokazovani/
END:VEVENT
BEGIN:VTIMEZONE
TZID:Europe/Prague
BEGIN:DAYLIGHT
TZOFFSETFROM:+0100
TZOFFSETTO:+0200
DTSTART:20150329T010000
TZNAME:CEST
END:DAYLIGHT
END:VTIMEZONE
END:VCALENDAR
