BEGIN:VCALENDAR
VERSION:2.0
PRODID:-//Centrum právní komparatistiky//NONSGML Events//EN
CALSCALE:GREGORIAN
X-ORIGINAL-URL:https://komparatistika.cz/cs/events/event/
X-WR-CALDESC:Centrum právní komparatistiky - Events
BEGIN:VEVENT
UID:20170223T0630Z-1487831437.6484-EO-831-1@195.113.8.40
STATUS:CONFIRMED
DTSTAMP:20260422T234650Z
CREATED:20160412T141214Z
LAST-MODIFIED:20160412T141214Z
DTSTART;TZID=Europe/Prague:20160418T173000
DTEND;TZID=Europe/Prague:20160418T190000
SUMMARY: Mezinárodní právo obchodních společností v Evropské unii
DESCRIPTION: Přednášející: Prof. Kurt Siehr\, Max-Planck-Institut Hamburk. 
 Obchodní společnosti založené v členském státě EU mohou využívat svobody us
 azování uvnitř Evropské unie (čl. 49 SFEU). Proto ESD vychází tradičně z pr
 incipu sídla a umožňuje jejich volný pohyb (viz rozsudky ve věcech Daily Ma
 il\, Centros\, Überseering\, aj.). V nedávné době Evropská komise změnila s
 vůj negativní postoj k právní úpravě tohoto problému\, a […]
X-ALT-DESC;FMTTYPE=text/html: <p>Přednášející: Prof. Kurt Siehr\, Max-Planc
 k-Institut Hamburk.</p><p>Obchodní společnosti založené v členském státě EU
  mohou využívat svobody usazování uvnitř Evropské unie (čl. 49 SFEU). Proto
  ESD vychází tradičně z principu sídla a umožňuje jejich volný pohyb (viz r
 ozsudky ve věcech Daily Mail\, Centros\, Überseering\, aj.). V nedávné době
  Evropská komise změnila svůj negativní postoj k právní úpravě tohoto probl
 ému\, a tak mnohé skupiny právních teoretiků pracují na koncepci nového nař
 ízení.</p><p> </p><p><strong>Přednáška v angličtině.</strong></p><p><strong
 > </strong></p>
CATEGORIES:Semináře
LOCATION:PF UK\, 4. patro\, místnost č. 412
GEO:50.091431;14.416880
ORGANIZER;CN="Halka Kolaříková":MAILTO:kolarikova@prf.cuni.cz
URL;VALUE=URI:https://komparatistika.cz/cs/events/event/mezinarodni-pravo-o
 bchodnich-spolecnosti-v-evropske-unii/
END:VEVENT
BEGIN:VTIMEZONE
TZID:Europe/Prague
BEGIN:DAYLIGHT
TZOFFSETFROM:+0100
TZOFFSETTO:+0200
DTSTART:20160327T010000
TZNAME:CEST
END:DAYLIGHT
END:VTIMEZONE
END:VCALENDAR
