BEGIN:VCALENDAR
VERSION:2.0
PRODID:-//Centrum právní komparatistiky//NONSGML Events//EN
CALSCALE:GREGORIAN
X-ORIGINAL-URL:https://komparatistika.cz/cs/events/event/
X-WR-CALDESC:Centrum právní komparatistiky - Events
BEGIN:VEVENT
UID:20230604T0303Z-1685847817,6945-EO-2581-1@195.113.8.40
STATUS:CONFIRMED
DTSTAMP:20260420T135410Z
CREATED:20230531T163230Z
LAST-MODIFIED:20230630T124749Z
DTSTART;TZID=Europe/Prague:20230525T173000
DTEND;TZID=Europe/Prague:20230525T190000
SUMMARY: Nároky na náhradu nemajetkové újmy a jejich dědění
DESCRIPTION: Prof. Wolfgang Wurmnest\, Univerzita Hamburg\, Německý zákonod
 árce umožnil v občanském zákoníku (BGB) z r. 1900 náhradu nemajetkové újmy 
 jen ve velmi omezeném rozsahu. Během dlouhodobého používání této úpravy vša
 k soudy podstatným způsobem působnost náhrady za nemajetkové újmy rozšířily
 . Tato liberalizace je ovšem nerovnoměrná. Omezení nároků na náhradu újem v
  důsledku porušení osobnostních práv judikatura neodstranila. […]
X-ALT-DESC;FMTTYPE=text/html: <p><strong>Prof. Wolfgang Wurmnest\, Univerzi
 ta Hamburg\,</strong></p><p>Německý zákonodárce umožnil v občanském zákoník
 u (BGB) z r. 1900 náhradu nemajetkové újmy jen ve velmi omezeném rozsahu. B
 ěhem dlouhodobého používání této úpravy však soudy podstatným způsobem půso
 bnost náhrady za nemajetkové újmy rozšířily. Tato liberalizace je ovšem ner
 ovnoměrná. Omezení nároků na náhradu újem v důsledku porušení osobnostních 
 práv judikatura neodstranila. Tyto nároky nejsou podle dnes platného práva 
 na rozdíl od nároku na náhradu bolestného předmětem dědění (viz rozsudek ně
 meckého Spolkového soudního dvora z listopadu 2021 ve věci tzv. „Kohlových 
 protokolů“). Přednáška srovnává německou úpravu s rakouským právem a odůvod
 ňuje\, proč musí být judikatura korigována.</p><p><strong> </strong><strong
 >V němčině\, se simultánním tlumočením.</strong></p><p>Možné připojení přes
  Zoom: <a href="https://cuni-cz.zoom.us/j/98780936959">https://cuni-cz.zoom
 .us/j/98780936959</a></p>
CATEGORIES:Fóra CPK
LOCATION:PF UK\, 4. patro\, místnost č. 412
GEO:50.091431;14.416880
ORGANIZER;CN="Halka Kolaříková":MAILTO:kolarikova@prf.cuni.cz
URL;VALUE=URI:https://komparatistika.cz/cs/events/event/naroky-na-nahradu-n
 emajetkove-ujmy-a-jejich-dedeni/
END:VEVENT
BEGIN:VTIMEZONE
TZID:Europe/Prague
BEGIN:DAYLIGHT
TZOFFSETFROM:+0100
TZOFFSETTO:+0200
DTSTART:20230326T010000
TZNAME:CEST
END:DAYLIGHT
END:VTIMEZONE
END:VCALENDAR
