BEGIN:VCALENDAR
VERSION:2.0
PRODID:-//Centrum právní komparatistiky//NONSGML Events//EN
CALSCALE:GREGORIAN
X-ORIGINAL-URL:https://komparatistika.cz/cs/events/event/
X-WR-CALDESC:Centrum právní komparatistiky - Events
BEGIN:VEVENT
UID:20180609T0747Z-1528530424.7806-EO-1696-1@195.113.8.40
STATUS:CONFIRMED
DTSTAMP:20260422T222519Z
CREATED:20180608T141734Z
LAST-MODIFIED:20191026T024108Z
DTSTART;TZID=Europe/Prague:20180621T173000
DTEND;TZID=Europe/Prague:20180621T190000
SUMMARY: Odpovědnost politika za škodu
DESCRIPTION: L. Tichý\, Odpovědnost politika za škodu\, 21.6.2018\, místnos
 t č. 214
X-ALT-DESC;FMTTYPE=text/html: <p>Přednášející: prof. Luboš Tichý</p><p>Prov
 okativní téma navozuje předně otázku\, zda tento institut existuje a zda ho
  lze uskutečnit\, a to vedle politické odpovědnosti\, prostřednictvím nástr
 ojů právní ochrany dotčených osob. Přednáška se proto bude zabývat otázkou 
 protiprávnosti a přičítání škody a dalšími prvky odpovědnostního vztahu. Vy
 chází se i z určité paralely v cizích právních řádech a hledá se pozitivněp
 rávní řešení.</p><p><a href="http://komparatistika.cz/wp-content/uploads/20
 18-06-21-LT.pdf">2018-06-21 LT</a></p><p><strong> </strong></p>
CATEGORIES:Fóra CPK
LOCATION:místnost č. 214\, II. patro
GEO:50.091541;14.417004
ORGANIZER;CN="Halka Kolaříková":MAILTO:kolarikova@prf.cuni.cz
URL;VALUE=URI:https://komparatistika.cz/cs/events/event/odpovednost-politik
 a-za-skodu/
END:VEVENT
BEGIN:VTIMEZONE
TZID:Europe/Prague
BEGIN:DAYLIGHT
TZOFFSETFROM:+0100
TZOFFSETTO:+0200
DTSTART:20180325T010000
TZNAME:CEST
END:DAYLIGHT
END:VTIMEZONE
END:VCALENDAR
