BEGIN:VCALENDAR
VERSION:2.0
PRODID:-//Centrum právní komparatistiky//NONSGML Events//EN
CALSCALE:GREGORIAN
X-ORIGINAL-URL:https://komparatistika.cz/cs/events/event/
X-WR-CALDESC:Centrum právní komparatistiky - Events
BEGIN:VEVENT
UID:20231209T0001Z-1702080092,0635-EO-2646-1@195.113.8.40
STATUS:CONFIRMED
DTSTAMP:20260420T121908Z
CREATED:20231207T083225Z
LAST-MODIFIED:20231207T083225Z
DTSTART;TZID=Europe/Prague:20231214T173000
DTEND;TZID=Europe/Prague:20231214T190000
SUMMARY: Odpovědnost za psychickou újmu při zneužívání dětí
DESCRIPTION: prof. Andreas Spickhoff\, univerzita Mnichov\, Ostudný a šokuj
 ící jev je již delší dobu\, jakožto společenský problém\, do značné míry ov
 livněn aférami katolických kněží. Jde ovšem o obecný jev celosvětového význ
 amu. Judikatura Spolkového soudního dvora se v těchto věcech postarala o ro
 zšíření pojetí objektivního přičítání v deliktním právu. Současně se zásadn
 ím způsobem změnil přístup k rozsahu […]
X-ALT-DESC;FMTTYPE=text/html: <p><b><span lang="CS">prof. Andreas Spickhoff
 \, univerzita Mnichov\,</span></b></p><p style="font-weight: 400\;">Ostudný
  a šokující jev je již delší dobu\, jakožto společenský problém\, do značné
  míry ovlivněn aférami katolických kněží. Jde ovšem o obecný jev celosvětov
 ého významu. Judikatura Spolkového soudního dvora se v těchto věcech postar
 ala o rozšíření pojetí objektivního přičítání v deliktním právu. Současně s
 e zásadním způsobem změnil přístup k rozsahu náhrady škody. Poprvé byla náh
 rada za imateriální újmu přiznána ve výši šestimístné částky v euro. Vzdor 
 tomu\, mnozí autoři i takovou náhradu považují za nedostatečnou. Přednáška 
 se bude zabývat otázkami původu a rozsahu odpovědnosti\, stejně jako i hled
 isky pro stanovení náhrady imateriální škody.</p><p style="font-weight: 400
 \;"><strong>V němčině\, se simultánním tlumočením.</strong></p><p style="fo
 nt-weight: 400\;">Možné připojení přes Zoom: <a href="https://cuni-cz.zoom.
 us/j/98780936959">https://cuni-cz.zoom.us/j/98780936959</a></p>
CATEGORIES:Fóra CPK
LOCATION:PF UK\, 4. patro\, místnost č. 412
GEO:50.091431;14.416880
ORGANIZER;CN="Halka Kolaříková":MAILTO:kolarikova@prf.cuni.cz
URL;VALUE=URI:https://komparatistika.cz/cs/events/event/odpovednost-za-psyc
 hickou-ujmu-pri-zneuzivani-deti/
END:VEVENT
BEGIN:VTIMEZONE
TZID:Europe/Prague
BEGIN:STANDARD
TZOFFSETFROM:+0200
TZOFFSETTO:+0100
DTSTART:20231029T010000
TZNAME:CET
END:STANDARD
END:VTIMEZONE
END:VCALENDAR
