BEGIN:VCALENDAR
VERSION:2.0
PRODID:-//Centrum právní komparatistiky//NONSGML Events//EN
CALSCALE:GREGORIAN
X-ORIGINAL-URL:https://komparatistika.cz/cs/events/event/
X-WR-CALDESC:Centrum právní komparatistiky - Events
BEGIN:VEVENT
UID:20150927T2134Z-1443389664.2952-EO-687-1@195.113.8.40
STATUS:CONFIRMED
DTSTAMP:20260422T234804Z
CREATED:20150923T141911Z
LAST-MODIFIED:20191026T022010Z
DTSTART;TZID=Europe/Prague:20151029T173000
DTEND;TZID=Europe/Prague:20151029T190000
SUMMARY: Odpovědnost za výrobek
DESCRIPTION: Přednášející: prof. Dr. Luboš Tichý. Referát se zabývá tímto u
  nás relativně málo frekventovaným druhem deliktní odpovědnosti. Zdánlivě s
 e jedná o výlučnou objektivní odpovědnost. Široký rozsah exonerační povinno
 sti v unijní směrnici a NOZ ji však přibližují k povinnosti subjektivní. Re
 ferát se zabývá problémem vady\, a to zejména s ohledem na její kategorizac
 i na vady výrobní a vady konstrukční.
X-ALT-DESC;FMTTYPE=text/html: <p>Přednášející: prof. Dr. Luboš Tichý. Refer
 át se zabývá tímto u nás relativně málo frekventovaným druhem deliktní odpo
 vědnosti. Zdánlivě se jedná o výlučnou objektivní odpovědnost. Široký rozsa
 h exonerační povinnosti v unijní směrnici a NOZ ji však přibližují k povinn
 osti subjektivní. Referát se zabývá problémem vady\, a to zejména s ohledem
  na její kategorizaci na vady výrobní a vady konstrukční.</p>
CATEGORIES:Fóra CPK
LOCATION:PF UK\, místnost č. 401
GEO:50.091431;14.416880
ORGANIZER;CN="Halka Kolaříková":MAILTO:kolarikova@prf.cuni.cz
URL;VALUE=URI:https://komparatistika.cz/cs/events/event/odpovednost-za-vyro
 bek/
END:VEVENT
BEGIN:VTIMEZONE
TZID:Europe/Prague
BEGIN:STANDARD
TZOFFSETFROM:+0200
TZOFFSETTO:+0100
DTSTART:20151025T010000
TZNAME:CET
END:STANDARD
END:VTIMEZONE
END:VCALENDAR
