BEGIN:VCALENDAR
VERSION:2.0
PRODID:-//Centrum právní komparatistiky//NONSGML Events//EN
CALSCALE:GREGORIAN
X-ORIGINAL-URL:https://komparatistika.cz/cs/events/event/
X-WR-CALDESC:Centrum právní komparatistiky - Events
BEGIN:VEVENT
UID:20230427T0044Z-1682556275,1614-EO-2574-1@195.113.8.40
STATUS:CONFIRMED
DTSTAMP:20260420T141212Z
CREATED:20230425T075256Z
LAST-MODIFIED:20230630T110418Z
DTSTART;TZID=Europe/Prague:20230427T173000
DTEND;TZID=Europe/Prague:20230427T190000
SUMMARY: Plaidoyer za změnu unijní regulace nepřiměřených ustanovení ve spo
 třebitelských smlouvách
DESCRIPTION: Prof. Matthias Lehmann\, Univerzita Vídeň\, Směrnice o nepřimě
 řených ustanoveních ve spotřebitelských smlouvách je jedním z hlavních stav
 ebních kamenů evropského soukromého práva. Vzdor tomu je tento právní akt v
  jednotlivých členských státech velmi rozdílně chápán a transponován. Ani S
 oudnímu dvoru Evropské unie se nepodařilo dosáhnout jednotného výkladu. Dův
 odem pro tento jev je forma právního aktu\, neboť […]
X-ALT-DESC;FMTTYPE=text/html: <p><b><span lang="CS">Prof. Matthias Lehmann\
 , Univerzita Vídeň\,</span></b></p><p style="font-weight: 400\;">Směrnice o
  nepřiměřených ustanoveních ve spotřebitelských smlouvách je jedním z hlavn
 ích stavebních kamenů evropského soukromého práva. Vzdor tomu je tento práv
 ní akt v jednotlivých členských státech velmi rozdílně chápán a transponová
 n. Ani Soudnímu dvoru Evropské unie se nepodařilo dosáhnout jednotného výkl
 adu. Důvodem pro tento jev je forma právního aktu\, neboť směrnice poskytuj
 e členským státům velmi rozsáhlý prostor k transpozici jednotlivých předpis
 ů. Výrazné rozdíly národních právních úprav členských států jsou typickým z
 drojem právní nejistoty a poruch hospodářské soutěže. Tento příspěvek proto
  navrhuje\, přepracovat obsah směrnice a vtělit jej do přímo aplikovatelnéh
 o nařízení.</p><p style="font-weight: 400\;"><strong>V němčině\, se simultá
 nním tlumočením.</strong></p><p style="font-weight: 400\;">Možné připojení 
 přes Zoom: <a href="https://cuni-cz.zoom.us/j/98780936959">https://cuni-cz.
 zoom.us/j/98780936959</a></p>
CATEGORIES:Fóra CPK
LOCATION:PF UK\, 4. patro\, místnost č. 412
GEO:50.091431;14.416880
ORGANIZER;CN="Halka Kolaříková":MAILTO:kolarikova@prf.cuni.cz
URL;VALUE=URI:https://komparatistika.cz/cs/events/event/plaidoyer-za-zmenu-
 unijni-regulace-neprimerenych-ustanoveni-ve-spotrebitelskych-smlouvach/
END:VEVENT
BEGIN:VTIMEZONE
TZID:Europe/Prague
BEGIN:DAYLIGHT
TZOFFSETFROM:+0100
TZOFFSETTO:+0200
DTSTART:20230326T010000
TZNAME:CEST
END:DAYLIGHT
END:VTIMEZONE
END:VCALENDAR
