BEGIN:VCALENDAR
VERSION:2.0
PRODID:-//Centrum právní komparatistiky//NONSGML Events//EN
CALSCALE:GREGORIAN
X-ORIGINAL-URL:https://komparatistika.cz/cs/events/event/
X-WR-CALDESC:Centrum právní komparatistiky - Events
BEGIN:VEVENT
UID:20180418T0626Z-1524032764.8574-EO-1657-1@195.113.8.40
STATUS:CONFIRMED
DTSTAMP:20260422T210345Z
CREATED:20180418T055832Z
LAST-MODIFIED:20181213T122314Z
DTSTART;TZID=Europe/Prague:20180426T173000
DTEND;TZID=Europe/Prague:20180426T190000
SUMMARY: Pojem smlouvy
DESCRIPTION: Pojem smlouvy\, L. Tichý\, od 17.30\, místnost č. 401
X-ALT-DESC;FMTTYPE=text/html: <p>Přednášející: prof. Luboš Tichý</p><p>Tato
  přednáška je úvodem do rozsáhlého projektu CPK\, jež se zabývá pojmem smlo
 uvy v nejširších souvislostech. Přednáška proto analyzuje základní pojmy a 
 teorie smlouvy\, zejména s ohledem na její význam v soukromém právu. Předmě
 tem analýzy je vlastní charakter tohoto pojmu\, jeho klasifikace a popis vý
 vojových tendencí. Zabývá se dále vztahem k dalším základním soukromoprávní
 m institutům\, zejména ke kategorii civilního deliktu.</p><p> </p><p> </p><
 p> </p><p><a href="http://komparatistika.cz/wp-content/uploads/2018-04-26-L
 T.pdf">2018-04-26 LT</a></p>
CATEGORIES:Fóra CPK
LOCATION:PF UK\, místnost č. 401
GEO:50.091431;14.416880
ORGANIZER;CN="Halka Kolaříková":MAILTO:kolarikova@prf.cuni.cz
URL;VALUE=URI:https://komparatistika.cz/cs/events/event/pojem-smlouvy/
END:VEVENT
BEGIN:VTIMEZONE
TZID:Europe/Prague
BEGIN:DAYLIGHT
TZOFFSETFROM:+0100
TZOFFSETTO:+0200
DTSTART:20180325T010000
TZNAME:CEST
END:DAYLIGHT
END:VTIMEZONE
END:VCALENDAR
