BEGIN:VCALENDAR
VERSION:2.0
PRODID:-//Centrum právní komparatistiky//NONSGML Events//EN
CALSCALE:GREGORIAN
X-ORIGINAL-URL:https://komparatistika.cz/cs/events/event/
X-WR-CALDESC:Centrum právní komparatistiky - Events
BEGIN:VEVENT
UID:20200216T1504Z-1581865469.4912-EO-2124-1@195.113.8.40
STATUS:CONFIRMED
DTSTAMP:20260422T163928Z
CREATED:20200214T200515Z
LAST-MODIFIED:20200312T095208Z
DTSTART;TZID=Europe/Prague:20200312T173000
DTEND;TZID=Europe/Prague:20200312T190000
SUMMARY: Právnické sjezdy – model pro Českou republiku (dialog jako základ 
 rozvoje práva a právní kultury)
DESCRIPTION: L. Tichý\, Právnické sjezdy - model pro Českou republiku (dial
 og jako základ rozvoje práva a právní kultury)\, 12.3.2020\, místnost č. 40
 1\, od 17.30
X-ALT-DESC;FMTTYPE=text/html: <p>PŘEDNÁŠKA  ZRUŠENA</p><p>prof. Luboš Tichý
 </p><p>Chaos při projednávání návrhů zákonů klíčového významu jen dokládá a
 bsenci věcného dialogu v rámci právnické obce. Diskuse v relevantním rozsah
 u se však nekoná ani ve vztahu k judikatuře. Jednou z důležitých forem odbo
 rného dialogu by mohly být právnické sjezdy\, jejichž tradice byla přervána
  událostmi na sklonku třicátých let 20. století a dosud nebyla obnovena. Pr
 ávnické sjezdy by měly čerpat ze zkušeností nepřerušené existence ve státec
 h střední Evropy a nastolovat klíčová témata v souladu s legislativním prog
 ramem vlády.</p>
CATEGORIES:Fóra CPK
LOCATION:PF UK\, místnost č. 401
GEO:50.091431;14.416880
ORGANIZER;CN="Halka Kolaříková":MAILTO:kolarikova@prf.cuni.cz
URL;VALUE=URI:https://komparatistika.cz/cs/events/event/pravnicke-sjezdy-mo
 del-pro-ceskou-republiku-dialog-jako-zaklad-rozvoje-prava-a-pravni-kultury/
END:VEVENT
BEGIN:VTIMEZONE
TZID:Europe/Prague
BEGIN:STANDARD
TZOFFSETFROM:+0200
TZOFFSETTO:+0100
DTSTART:20191027T010000
TZNAME:CET
END:STANDARD
END:VTIMEZONE
END:VCALENDAR
