BEGIN:VCALENDAR
VERSION:2.0
PRODID:-//Centrum právní komparatistiky//NONSGML Events//EN
CALSCALE:GREGORIAN
X-ORIGINAL-URL:https://komparatistika.cz/cs/events/event/
X-WR-CALDESC:Centrum právní komparatistiky - Events
BEGIN:VEVENT
UID:20191004T0858Z-1570179536.9567-EO-1944-1@195.113.8.40
STATUS:CONFIRMED
DTSTAMP:20260422T181124Z
CREATED:20190928T120004Z
LAST-MODIFIED:20190930T175116Z
DTSTART;TZID=Europe/Prague:20191205T173000
DTEND;TZID=Europe/Prague:20191205T190000
SUMMARY: Právo a digitalizace
DESCRIPTION: F. Hofmann\, Právo a digitalizace\, 5.12.2019\, od 17.30\, mís
 tnost č. 401
X-ALT-DESC;FMTTYPE=text/html: <p>Prof. Franz Hofmann\, Friedrich-Alexander 
 Universität Erlangen-Nürnberg</p><p>V současné době jsme svědky naprosto no
 vých jevů\, jakými jsou autonomní automobil\, počítač coby umělec a další c
 hytré produkty. Změny v důsledku digitalizace a umělé inteligence jsou pro 
 soukromé právo novými výzvami. Na základě příkladů z deliktního práva zkoum
 á přednáška otázku\, zda soukromé právo potřebuje nová pravidla či nové pře
 dpisy\, anebo lze řešit nové právní otázky v rámci platných ustanovení. Exi
 stují v soukromém právu nadčasové principy\, anebo jsou změny tak zásadního
  charakteru\, že budoucnost soukromého práva spočívá v řešení\, jež může zn
 amenat přizpůsobování se novým situacím?</p><p> </p><p> </p><p> </p>
CATEGORIES:Fóra CPK
LOCATION:PF UK\, místnost č. 401
GEO:50.091431;14.416880
ORGANIZER;CN="Halka Kolaříková":MAILTO:kolarikova@prf.cuni.cz
URL;VALUE=URI:https://komparatistika.cz/cs/events/event/pravo-a-digitalizac
 e-prof-franz-hofmann-friedrich-alex/
END:VEVENT
BEGIN:VTIMEZONE
TZID:Europe/Prague
BEGIN:STANDARD
TZOFFSETFROM:+0200
TZOFFSETTO:+0100
DTSTART:20191027T010000
TZNAME:CET
END:STANDARD
END:VTIMEZONE
END:VCALENDAR
