BEGIN:VCALENDAR
VERSION:2.0
PRODID:-//Centrum právní komparatistiky//NONSGML Events//EN
CALSCALE:GREGORIAN
X-ORIGINAL-URL:https://komparatistika.cz/cs/events/event/
X-WR-CALDESC:Centrum právní komparatistiky - Events
BEGIN:VEVENT
UID:20230106T1338Z-1673012290,9469-EO-2556-1@195.113.8.40
STATUS:CONFIRMED
DTSTAMP:20260420T152156Z
CREATED:20230105T095340Z
LAST-MODIFIED:20230105T095340Z
DTSTART;TZID=Europe/Prague:20230112T110000
DTEND;TZID=Europe/Prague:20230112T120000
SUMMARY: Předsmluvní povinnosti se zvláštním zřetelem k povinnostem informa
 čním
DESCRIPTION: Dr. Jiří Hrádek\, Stranám budoucí smlouvy vznikají již v předs
 mluvním stadiu povinnosti\, zejména informační\, jejichž porušení vede k rů
 zným následkům. Zejména se jedná o povinnost řádného vyjednávání a ochranný
 ch povinností vůči druhé straně. Cílem přednášky je identifikace předsmluvn
 ích vztahů\, včetně vymezení typických předsmluvních dohod (MOU\, LOI\, či 
 předsmlouva)\, kategorizace předsmluvních povinností a vymezení následků je
 jich […]
X-ALT-DESC;FMTTYPE=text/html: <p>Dr. Jiří Hrádek\,</p><p style="font-weight
 : 400\;">Stranám budoucí smlouvy vznikají již v předsmluvním stadiu povinno
 sti\, zejména informační\, jejichž porušení vede k různým následkům. Zejmén
 a se jedná o povinnost řádného vyjednávání a ochranných povinností vůči dru
 hé straně. Cílem přednášky je identifikace předsmluvních vztahů\, včetně vy
 mezení typických předsmluvních dohod (MOU\, LOI\, či předsmlouva)\, kategor
 izace předsmluvních povinností a vymezení následků jejich nesplnění a prost
 ředků nápravy (od povinnosti k náhradě škody po možnost odstoupení od smlou
 vy)."</p>
CATEGORIES:Fóra CPK
LOCATION:PF UK\, 4. patro\, místnost č. 412
GEO:50.091431;14.416880
ORGANIZER;CN="Halka Kolaříková":MAILTO:kolarikova@prf.cuni.cz
URL;VALUE=URI:https://komparatistika.cz/cs/events/event/predsmluvni-povinno
 sti-se-zvlastnim-zretelem-k-povinnostem-informacnim/
END:VEVENT
BEGIN:VTIMEZONE
TZID:Europe/Prague
BEGIN:STANDARD
TZOFFSETFROM:+0200
TZOFFSETTO:+0100
DTSTART:20221030T010000
TZNAME:CET
END:STANDARD
END:VTIMEZONE
END:VCALENDAR
