BEGIN:VCALENDAR
VERSION:2.0
PRODID:-//Centrum právní komparatistiky//NONSGML Events//EN
CALSCALE:GREGORIAN
X-ORIGINAL-URL:https://komparatistika.cz/cs/events/event/
X-WR-CALDESC:Centrum právní komparatistiky - Events
BEGIN:VEVENT
UID:20150524T0300Z-1432436405.4181-EO-544-1@195.113.8.40
STATUS:CONFIRMED
DTSTAMP:20260422T235159Z
CREATED:20150517T062754Z
LAST-MODIFIED:20191026T022514Z
DTSTART;TZID=Europe/Prague:20150521T173000
DTEND;TZID=Europe/Prague:20150521T190000
SUMMARY: Škoda a kauzalita v deliktním právu
DESCRIPTION: Přednášející: prof. Luboš Tichý. Analýza dvou základních předp
 okladů deliktní odpovědnosti ve srovnávací perspektivě s vyústěním na inter
 pretaci NOZ.  
X-ALT-DESC;FMTTYPE=text/html: <p>Přednášející: prof. Luboš Tichý.</p><p>Ana
 lýza dvou základních předpokladů deliktní odpovědnosti ve srovnávací perspe
 ktivě s vyústěním na interpretaci NOZ.</p><p><strong> </strong></p>
CATEGORIES:Fóra CPK
ORGANIZER;CN="Halka Kolaříková":MAILTO:kolarikova@prf.cuni.cz
URL;VALUE=URI:https://komparatistika.cz/cs/events/event/skoda-a-kauzalita-v
 -deliktnim-pravu-2/
END:VEVENT
BEGIN:VTIMEZONE
TZID:Europe/Prague
BEGIN:DAYLIGHT
TZOFFSETFROM:+0100
TZOFFSETTO:+0200
DTSTART:20150329T010000
TZNAME:CEST
END:DAYLIGHT
END:VTIMEZONE
END:VCALENDAR
