BEGIN:VCALENDAR
VERSION:2.0
PRODID:-//Centrum právní komparatistiky//NONSGML Events//EN
CALSCALE:GREGORIAN
X-ORIGINAL-URL:https://komparatistika.cz/cs/events/event/
X-WR-CALDESC:Centrum právní komparatistiky - Events
BEGIN:VEVENT
UID:20181205T1719Z-1544030348.4562-EO-1765-1@195.113.8.40
STATUS:CONFIRMED
DTSTAMP:20260422T222253Z
CREATED:20181205T150650Z
LAST-MODIFIED:20181213T121543Z
DTSTART;TZID=Europe/Prague:20181115T173000
DTEND;TZID=Europe/Prague:20181215T193000
SUMMARY: Slib
DESCRIPTION: Slib\, J. Hrádek\, 15.11.2018\, od 17.30\, místnost č. 401
X-ALT-DESC;FMTTYPE=text/html: <p>JUDr. Jiří Hrádek</p><p>Přednáška se bude 
 věnovat tématu slibu jako jednostranného projevu vůle vůči jedné nebo více 
 osobám. Úvodem bude pojednáno o historickém vývoji slibu zejména v germánsk
 é právní oblasti a dále budou analyzovány jednotlivé aspekty slibu\, jako j
 e jeho závaznost\, odvolatelnost a vymahatelnost. Závěry této analýzy pak b
 udou porovnány se současným pojetím slibu v občanském zákoníku.</p>
CATEGORIES:Fóra CPK
LOCATION:PF UK\, místnost č. 401
GEO:50.091431;14.416880
ORGANIZER;CN="Halka Kolaříková":MAILTO:kolarikova@prf.cuni.cz
URL;VALUE=URI:https://komparatistika.cz/cs/events/event/slib/
END:VEVENT
BEGIN:VTIMEZONE
TZID:Europe/Prague
BEGIN:STANDARD
TZOFFSETFROM:+0200
TZOFFSETTO:+0100
DTSTART:20181028T010000
TZNAME:CET
END:STANDARD
END:VTIMEZONE
END:VCALENDAR
