BEGIN:VCALENDAR
VERSION:2.0
PRODID:-//Centrum právní komparatistiky//NONSGML Events//EN
CALSCALE:GREGORIAN
X-ORIGINAL-URL:https://komparatistika.cz/cs/events/event/
X-WR-CALDESC:Centrum právní komparatistiky - Events
BEGIN:VEVENT
UID:20190228T1342Z-1551361372.0421-EO-1812-1@195.113.8.40
STATUS:CONFIRMED
DTSTAMP:20260422T210524Z
CREATED:20190227T151640Z
LAST-MODIFIED:20190227T151640Z
DTSTART;TZID=Europe/Prague:20190307T173000
DTEND;TZID=Europe/Prague:20190307T190000
SUMMARY: Smíšené a inominátní smlouvy
DESCRIPTION: Smíšené a inominátní smlouvy\, 7.3.\, 17.30\, místnost č. 401
X-ALT-DESC;FMTTYPE=text/html: <p>prof. Luboš Tichý</p><p><span style="color
 : #000000\; font-family: Calibri\;">Ani DCFR neposkytuje jednoznačnou odpov
 ěď na obsah a význam institutu smíšené smlouvy. Přednáška tedy vymezuje ten
 to pojem a řeší i otázku právního základu pro řešení v takové smlouvě neupr
 avených vztahů. Pojem inominátní smlouvy je závislý na vymezení typu smlouv
 y a sleduje otázku relevantní právní úpravy\, podle které se taková smlouva
  spravuje. Klíčovým problémem je soulad s relevantními kogentními (či „polo
 kogentními“) právními normami. Přednáška bude též analyzovat nejdůležitější
  případy nepojmenovaných\, tj. zákonem neupravených smluv.</span></p><p> </
 p>
CATEGORIES:Fóra CPK
LOCATION:PF UK\, místnost č. 401
GEO:50.091431;14.416880
ORGANIZER;CN="Halka Kolaříková":MAILTO:kolarikova@prf.cuni.cz
URL;VALUE=URI:https://komparatistika.cz/cs/events/event/smisene-a-inominatn
 i-smlouvy/
END:VEVENT
BEGIN:VTIMEZONE
TZID:Europe/Prague
BEGIN:STANDARD
TZOFFSETFROM:+0200
TZOFFSETTO:+0100
DTSTART:20181028T010000
TZNAME:CET
END:STANDARD
END:VTIMEZONE
END:VCALENDAR
