BEGIN:VCALENDAR
VERSION:2.0
PRODID:-//Centrum právní komparatistiky//NONSGML Events//EN
CALSCALE:GREGORIAN
X-ORIGINAL-URL:https://komparatistika.cz/cs/events/event/
X-WR-CALDESC:Centrum právní komparatistiky - Events
BEGIN:VEVENT
UID:20221114T2030Z-1668457834,1306-EO-2551-1@195.113.8.40
STATUS:CONFIRMED
DTSTAMP:20260420T094457Z
CREATED:20221114T130541Z
LAST-MODIFIED:20221114T130637Z
DTSTART;TZID=Europe/Prague:20221116T173000
DTEND;TZID=Europe/Prague:20221116T190000
SUMMARY: Solidarita v právu EU
DESCRIPTION: prof. Luboš Tichý\, Přednáška se zabývá pojmem solidarity\, kt
 erý je nejen v naší unijně právní literatuře\, ale vůbec poněkud málo zprac
 ován. Přitom tato kategorie má svoje místo prakticky ve všech právních obor
 ech\; speciální roli hraje pak v evropském unijním právu. Cílem prezentace 
 je po obecném úvodu analyzovat pojem solidarity v primárním i sekundárním p
 rávu EU […]
X-ALT-DESC;FMTTYPE=text/html: <p><b><span lang="CS">prof. Luboš Tichý\,</sp
 an></b></p><p><span lang="CS">Přednáška se zabývá pojmem </span><span lang=
 "CS">solidarity\, který je nejen v naší unijně právní literatuře\, ale vůbe
 c poněkud málo zpracován. Přitom tato kategorie má svoje místo prakticky ve
  všech právních oborech</span><span lang="EN-US">\;</span><span lang="CS"> 
 speciální roli hraje </span><span lang="CS">pak v evropském unijním právu. 
 Cílem prezentace je po obecném úvodu analyzovat pojem solidarity v primární
 m i sekundárním právu EU na základě především zahraniční lite-ratury a judi
 katury SD EU. Zabývá se tedy samotným postavením\, obsahem a povahou tohoto
  pojmu\, jeho vztahem k obdobným obecným kategoriím unijního práva\, zejmén
 a základním hodnotám a zásadám. Zvláště se zabývá otázkou normativního obsa
 hu solidarity\, jeho významem při interpretaci i těch ustanovení\, v nichž 
 tento termín není obsažen\, rolí při jeho výkladu\, a především jeho mezemi
 . Přednáška pak dospívá k vlastní koncepci tohoto pojmu\, zejména jeho vynu
 titelnosti jakožto právní povinnosti a jí odpovídajícího oprávnění.</span><
 /p>
CATEGORIES:Fóra CPK
LOCATION:PF UK\, místnost č. 401
GEO:50.091431;14.416880
ORGANIZER;CN="Halka Kolaříková":MAILTO:kolarikova@prf.cuni.cz
URL;VALUE=URI:https://komparatistika.cz/cs/events/event/solidarita-v-pravu-
 eu/
END:VEVENT
BEGIN:VTIMEZONE
TZID:Europe/Prague
BEGIN:STANDARD
TZOFFSETFROM:+0200
TZOFFSETTO:+0100
DTSTART:20221030T010000
TZNAME:CET
END:STANDARD
END:VTIMEZONE
END:VCALENDAR
