BEGIN:VCALENDAR
VERSION:2.0
PRODID:-//Centrum právní komparatistiky//NONSGML Events//EN
CALSCALE:GREGORIAN
X-ORIGINAL-URL:https://komparatistika.cz/cs/events/event/
X-WR-CALDESC:Centrum právní komparatistiky - Events
BEGIN:VEVENT
UID:20190308T2007Z-1552075657.2424-EO-1823-1@195.113.8.40
STATUS:CONFIRMED
DTSTAMP:20260422T180910Z
CREATED:20190307T132839Z
LAST-MODIFIED:20190307T132839Z
DTSTART;TZID=Europe/Prague:20190516T173000
DTEND;TZID=Europe/Prague:20190516T190000
SUMMARY: Spotřebitelská smlouva
DESCRIPTION: Luboš Tichý\, Spotřebitelská smlouva\, 16.5.2019\, od 17.30\, 
 místnost č. 401
X-ALT-DESC;FMTTYPE=text/html: <p>prof. Luboš Tichý</p><p>Jeden z nejdůležit
 ějších druhů smluvních je smlouva\, jejíž stranou je specifická slabší stra
 na – spotřebitel. Jednotlivé druhy tohoto smluvního typu jsou upraveny koge
 ntním způsobem. Smlouva se zabývá znaky a specifiky tohoto smluvního typu a
  mírou autonomie vůle v jeho rámci. Analyzuje problematiku kontroly smlouvy
  včetně všeobecných obchodních podmínek\, specifický způsob výkladu spotřeb
 itelské smlouvy\, stejně jako problémy rovnováhy smluvních práv a povinnost
 í a otázky smluvního ujednání o předmětu plnění a ceně.</p>
CATEGORIES:Fóra CPK
LOCATION:PF UK\, místnost č. 401
GEO:50.091431;14.416880
ORGANIZER;CN="Halka Kolaříková":MAILTO:kolarikova@prf.cuni.cz
URL;VALUE=URI:https://komparatistika.cz/cs/events/event/spotrebitelska-smlo
 uva-2/
END:VEVENT
BEGIN:VTIMEZONE
TZID:Europe/Prague
BEGIN:DAYLIGHT
TZOFFSETFROM:+0100
TZOFFSETTO:+0200
DTSTART:20190331T010000
TZNAME:CEST
END:DAYLIGHT
END:VTIMEZONE
END:VCALENDAR
