BEGIN:VCALENDAR
VERSION:2.0
PRODID:-//Centrum právní komparatistiky//NONSGML Events//EN
CALSCALE:GREGORIAN
X-ORIGINAL-URL:https://komparatistika.cz/cs/events/event/
X-WR-CALDESC:Centrum právní komparatistiky - Events
BEGIN:VEVENT
UID:20190524T2014Z-1558728899.1709-EO-1891-1@195.113.8.40
STATUS:CONFIRMED
DTSTAMP:20260422T193437Z
CREATED:20190522T112907Z
LAST-MODIFIED:20190523T052227Z
DTSTART;TZID=Europe/Prague:20190606T173000
DTEND;TZID=Europe/Prague:20190606T190000
SUMMARY: Spotřebitelská smlouva II
DESCRIPTION: přednáška prof. Tichého\, 6. 6.
X-ALT-DESC;FMTTYPE=text/html: <p>Prof. JUDr. Luboš Tichý</p><p>Referát nava
 zuje na obecný výklad spotřebitelské smlouvy 16. 5. a jeho předmětem je vym
 ezení spotřebitelské smlouvy a základů její unijní koncepce. Dále se soustř
 edí na otázku kogentnosti evropské a české právní úpravy\, informační povin
 nosti podnikatele\, jednostranné právo spotřebitele na ukončení smlouvy a k
 onečně se bude zbývat kontrolou uzavírání a obsahu smlouvy - tedy klíčovou 
 problematikou spotřebitelské smlouvy.</p>
CATEGORIES:Fóra CPK
LOCATION:PF UK\, místnost č. 401
GEO:50.091431;14.416880
ORGANIZER;CN="Halka Kolaříková":MAILTO:kolarikova@prf.cuni.cz
URL;VALUE=URI:https://komparatistika.cz/cs/events/event/spotrebitelska-smlo
 uva-ii/
END:VEVENT
BEGIN:VTIMEZONE
TZID:Europe/Prague
BEGIN:DAYLIGHT
TZOFFSETFROM:+0100
TZOFFSETTO:+0200
DTSTART:20190331T010000
TZNAME:CEST
END:DAYLIGHT
END:VTIMEZONE
END:VCALENDAR
