BEGIN:VCALENDAR
VERSION:2.0
PRODID:-//Centrum právní komparatistiky//NONSGML Events//EN
CALSCALE:GREGORIAN
X-ORIGINAL-URL:https://komparatistika.cz/cs/events/event/
X-WR-CALDESC:Centrum právní komparatistiky - Events
BEGIN:VEVENT
UID:20140708T1727Z-1404840450.0954-EO-351-1@195.113.8.40
STATUS:CONFIRMED
DTSTAMP:20260423T011820Z
CREATED:20140702T131954Z
LAST-MODIFIED:20190308T105626Z
DTSTART;TZID=Europe/Prague:20140417T173000
DTEND;TZID=Europe/Prague:20140417T173000
SUMMARY: Svěřenské fondy. Příležitost nebo hrozba?
DESCRIPTION: Přednáška shrnuje a analyzuje kontroverze týkající se institut
 ů svěřenských fondů podle NOZ\, resp. rizika\, které tyto struktury mohou p
 řinášet. Pozornost bude věnována především námitkám netransparentnosti a mo
 žného zneužití svěřenských fondů\, včetně implikací pro oblast praní špinav
 ých peněz (AML) a daňového práva.
X-ALT-DESC;FMTTYPE=text/html: <p>Přednáška shrnuje a analyzuje kontroverze 
 týkající se institutů svěřenských fondů podle NOZ\, resp. rizika\, které ty
 to struktury<br />mohou přinášet. Pozornost bude věnována především námitká
 m netransparentnosti a možného zneužití svěřenských fondů\,<br />včetně imp
 likací pro oblast praní špinavých peněz (AML) a daňového práva.</p>
CATEGORIES:Fóra CPK
LOCATION:PrF UK\, #404
GEO:50.091718;14.417568
ORGANIZER;CN="Vít Zvánovec":MAILTO:vit.zvanovec@gmail.com
URL;VALUE=URI:https://komparatistika.cz/cs/events/event/sverenske-fondy-pri
 lezitost-nebo-hrozba/
END:VEVENT
BEGIN:VTIMEZONE
TZID:Europe/Prague
BEGIN:DAYLIGHT
TZOFFSETFROM:+0100
TZOFFSETTO:+0200
DTSTART:20140330T010000
TZNAME:CEST
END:DAYLIGHT
END:VTIMEZONE
END:VCALENDAR
