BEGIN:VCALENDAR
VERSION:2.0
PRODID:-//Centrum právní komparatistiky//NONSGML Events//EN
CALSCALE:GREGORIAN
X-ORIGINAL-URL:https://komparatistika.cz/cs/events/event/
X-WR-CALDESC:Centrum právní komparatistiky - Events
BEGIN:VEVENT
UID:20150409T1930Z-1428607841.144-EO-517-1@195.113.8.40
STATUS:CONFIRMED
DTSTAMP:20260420T110726Z
CREATED:20150408T144036Z
LAST-MODIFIED:20191026T022258Z
DTSTART;TZID=Europe/Prague:20150413T173000
DTEND;TZID=Europe/Prague:20150413T190000
SUMMARY: Ujednání stran (prorogace) o soudní příslušnosti dle nového naříze
 ní Brusel I bis
DESCRIPTION: přednáška prof. dr. Michaela Bogdana z Univerzity Lund Datum a
  místo konání: pondělí 13. dubna 2015 od 17.30 h\, místnost č. 412\, 4. pat
 ro budovy PF UK Jednací jazyk: čeština Vstup volný
X-ALT-DESC;FMTTYPE=text/html: <p><strong>přednáška prof. dr. Michaela Bogda
 na z Univerzity Lund</strong></p><p>Datum a místo konání:</p><p><strong>pon
 dělí 13. dubna 2015 od 17.30 h\, místnost č. 412\, 4. patro budovy PF UK</s
 trong></p><p>Jednací jazyk: čeština</p><p>Vstup volný</p>
CATEGORIES:Fóra CPK
ORGANIZER;CN="Halka Kolaříková":MAILTO:kolarikova@prf.cuni.cz
URL;VALUE=URI:https://komparatistika.cz/cs/events/event/ujednani-stran-pror
 ogace-o-soudni-prislusnosti-dle-noveho-narizeni-brusel-i-bis/
END:VEVENT
BEGIN:VTIMEZONE
TZID:Europe/Prague
BEGIN:DAYLIGHT
TZOFFSETFROM:+0100
TZOFFSETTO:+0200
DTSTART:20150329T010000
TZNAME:CEST
END:DAYLIGHT
END:VTIMEZONE
END:VCALENDAR
