BEGIN:VCALENDAR
VERSION:2.0
PRODID:-//Centrum právní komparatistiky//NONSGML Events//EN
CALSCALE:GREGORIAN
X-ORIGINAL-URL:https://komparatistika.cz/cs/events/event/
X-WR-CALDESC:Centrum právní komparatistiky - Events
BEGIN:VEVENT
UID:20200225T1846Z-1582656371.8058-EO-2128-1@195.113.8.40
STATUS:CONFIRMED
DTSTAMP:20260422T165728Z
CREATED:20200214T203006Z
LAST-MODIFIED:20200312T095355Z
DTSTART;TZID=Europe/Prague:20200319T163000
DTEND;TZID=Europe/Prague:20200319T180000
SUMMARY: Vlastní správa dlužníka (Německo) / dlužník s dispozičním oprávněn
 ím (Česká republika) z pohledu insolvenčního a korporátního práva
DESCRIPTION: K. Schmidt\, Bucerius Law School\, Hamburg\, Vlastní správa dl
 užníka (Německo) / dlužník s dispozičním oprávněním (Česká republika) z poh
 ledu insolvenčního a korporátního práva\, 19.3.2020\, místnost č. 304\, od 
 16.30
X-ALT-DESC;FMTTYPE=text/html: <p>PŘEDNÁŠKA  ZRUŠENA</p><p>prof. Karsten Sch
 midt\, Bucerius Law School\, Hamburg</p><p>Insolvenční a korporátní právo m
 ěly v minulosti jen málo styčných ploch. Je však zjevné\, že překotný vývoj
  insolvenčního práva tento stav razantně proměnil. S tím\, jak se stále víc
 e prosazují nelikvidační způsoby řešení úpadku\, dochází k čím dál většímu 
 prolínání obou těchto odvětví práva. Na jedné straně je zde insolvenční spr
 ávce\, jehož povinnosti jsou při správě běžícího podniku čím dál více přiro
 vnávány k povinnostem statutárního orgánu dlužníka. Na straně druhé je zde 
 pak dlužník\, nadaný i během insolvenčního řízení dispozičním oprávněním\, 
 na jehož povinnosti v insolvenčním řízení se analogicky aplikují povinnosti
  insolvenčního správce. Právě analýze tohoto nově vzniklého "tavicího kotlí
 ku" na pomezí obou systémů práva bude věnována tato přednáška.</p><p>Mimořá
 dně 16.30-18.00 v místnosti č. 304.</p><p>V němčině\, se simultánním tlumoč
 ením.</p>
CATEGORIES:Fóra CPK
LOCATION:PF UK\, místnost č. 304
GEO:50.091541;14.417004
ORGANIZER;CN="Halka Kolaříková":MAILTO:kolarikova@prf.cuni.cz
URL;VALUE=URI:https://komparatistika.cz/cs/events/event/vlastni-sprava-dluz
 nika-nemecko-dluznik-s-dispozicnim-opravnenim-ceska-republika-z-pohledu-ins
 olvencniho-a-korporatniho-prava/
END:VEVENT
BEGIN:VTIMEZONE
TZID:Europe/Prague
BEGIN:STANDARD
TZOFFSETFROM:+0200
TZOFFSETTO:+0100
DTSTART:20191027T010000
TZNAME:CET
END:STANDARD
END:VTIMEZONE
END:VCALENDAR
