BEGIN:VCALENDAR
VERSION:2.0
PRODID:-//Centrum právní komparatistiky//NONSGML Events//EN
CALSCALE:GREGORIAN
X-ORIGINAL-URL:https://komparatistika.cz/cs/events/event/
X-WR-CALDESC:Centrum právní komparatistiky - Events
BEGIN:VEVENT
UID:20150524T0303Z-1432436590.6445-EO-543-1@195.113.8.40
STATUS:CONFIRMED
DTSTAMP:20260422T235951Z
CREATED:20150517T062209Z
LAST-MODIFIED:20190308T111003Z
DTSTART;TZID=Europe/Prague:20150305T173000
DTEND;TZID=Europe/Prague:20150305T190000
SUMMARY: Vnitrostátní mechanismy České republiky ve vztahu k tvorbě
DESCRIPTION: Přednášející: JUDr. Tomáš Břicháček. Přednáška se bude věnovat
  fungování mechanismů\, v jejichž rámci jsou vnitrostátní orgány ČR zapojen
 y  do legislativního procesu EU a do implementace unijních předpisů. Pozorn
 ost se soustředí předně na koncepci projednávání legislativních návrhů EU a
  vytváření národních pozic k nim a postupy provádění přijatých předpisů\, z
 vláště směrnic. Následuje analýza dosavadních zkušeností.
X-ALT-DESC;FMTTYPE=text/html: <p>Přednášející: JUDr. Tomáš Břicháček.</p><p
 >Přednáška se bude věnovat fungování mechanismů\, v jejichž rámci jsou vnit
 rostátní orgány ČR zapojeny  do legislativního procesu EU a do implementace
  unijních předpisů. Pozornost se soustředí předně na koncepci projednávání 
 legislativních návrhů EU a vytváření národních pozic k nim a postupy provád
 ění přijatých předpisů\, zvláště směrnic. Následuje analýza dosavadních zku
 šeností.</p>
CATEGORIES:Fóra CPK
ORGANIZER;CN="Halka Kolaříková":MAILTO:kolarikova@prf.cuni.cz
URL;VALUE=URI:https://komparatistika.cz/cs/events/event/vnitrostatni-mechan
 ismy-ceske-republiky-ve-vztahu-k-tvorbe-2/
END:VEVENT
BEGIN:VTIMEZONE
TZID:Europe/Prague
BEGIN:STANDARD
TZOFFSETFROM:+0200
TZOFFSETTO:+0100
DTSTART:20141026T010000
TZNAME:CET
END:STANDARD
END:VTIMEZONE
END:VCALENDAR
