BEGIN:VCALENDAR
VERSION:2.0
PRODID:-//Centrum právní komparatistiky//NONSGML Events//EN
CALSCALE:GREGORIAN
X-ORIGINAL-URL:https://komparatistika.cz/cs/events/event/
X-WR-CALDESC:Centrum právní komparatistiky - Events
BEGIN:VEVENT
UID:20190928T1434Z-1569681278.8386-EO-1947-1@195.113.8.40
STATUS:CONFIRMED
DTSTAMP:20260422T181207Z
CREATED:20190928T120951Z
LAST-MODIFIED:20190930T180523Z
DTSTART;TZID=Europe/Prague:20200109T173000
DTEND;TZID=Europe/Prague:20200109T190000
SUMMARY: Základní otázky právní komparatistiky
DESCRIPTION: U. Kischel\, Univerzita Greifswald\, Základní otázky právní  k
 omparatistiky\, 9.1.2020\, od 17.30\, místnost č. 401
X-ALT-DESC;FMTTYPE=text/html: <p>Prof. Uwe Kischel\, Univerzita Greifswald<
 /p><p>Metodologická diskuse v rámci právní komparatistiky je tradiční téma.
  Funkcionální srovnávání i nadále dominuje praxi\, zatímco její početní aka
 demičtí kritici si stěžují ohledně nedostatku teorie. Za příklad může slouž
 it otázka\, jakou hodnotu a význam přiznáváme jednoduchým právním normám v 
 jejich komparaci. Hermeneutické řešení této otázky stejně jako celková disk
 use o metodě spočívá v kontextuální komparaci. Ta si zachovává svoje tvrdé 
 jádro a současně se vyhýbá jejím problémům. Užitečné je přitom typizování p
 rávních řádů do rozdílných kontextů\, jejichž základní znalosti a zkušenost
 i jsou agregovány do relevantního kontextu. Konec konců právní komparatisti
 ka je právě tak normativní\, jako nenormativní. Teprve norma a její kontext
  umožňují správné pochopení.</p><p> </p>
CATEGORIES:Fóra CPK
LOCATION:PF UK\, místnost č. 401
GEO:50.091431;14.416880
ORGANIZER;CN="Halka Kolaříková":MAILTO:kolarikova@prf.cuni.cz
URL;VALUE=URI:https://komparatistika.cz/cs/events/event/zakladni-otazky-pra
 vni-komparatistiky-prof-uwe-kischel-univerzita-greifswald/
END:VEVENT
BEGIN:VTIMEZONE
TZID:Europe/Prague
BEGIN:STANDARD
TZOFFSETFROM:+0200
TZOFFSETTO:+0100
DTSTART:20191027T010000
TZNAME:CET
END:STANDARD
END:VTIMEZONE
END:VCALENDAR
