BEGIN:VCALENDAR
VERSION:2.0
PRODID:-//Centrum právní komparatistiky//NONSGML Events//EN
CALSCALE:GREGORIAN
X-ORIGINAL-URL:https://komparatistika.cz/cs/events/event/
X-WR-CALDESC:Centrum právní komparatistiky - Events
BEGIN:VEVENT
UID:20150524T0300Z-1432436434.863-EO-539-1@195.113.8.40
STATUS:CONFIRMED
DTSTAMP:20260422T234855Z
CREATED:20150517T052425Z
LAST-MODIFIED:20190308T110437Z
DTSTART;TZID=Europe/Prague:20150402T173000
DTEND;TZID=Europe/Prague:20150402T190000
SUMMARY: Základní pojmy deliktní odpovědnosti
DESCRIPTION: Přednášející: prof. Luboš Tichý. Analýza základů odpovědnostní
 ch vztahů v civilním právu je základem vymezení hlavních předpokladů delikt
 ní odpovědnosti. Jde např. o poměr smluvní a deliktní odpovědnosti\, vztah 
 odpovědnosti za škodu a deliktní odpovědnosti apod. Na základě jasné katego
 rizace lze lépe porozumět kategoriím\, jakými jsou deliktní způsobilost\, z
 avinění\, kauzalita a dalším.    
X-ALT-DESC;FMTTYPE=text/html: <p>Přednášející: prof. Luboš Tichý.</p><p>Ana
 lýza základů odpovědnostních vztahů v civilním právu je základem vymezení h
 lavních předpokladů deliktní odpovědnosti. Jde např. o poměr smluvní a deli
 ktní odpovědnosti\, vztah odpovědnosti za škodu a deliktní odpovědnosti apo
 d. Na základě jasné kategorizace lze lépe porozumět kategoriím\, jakými jso
 u deliktní způsobilost\, zavinění\, kauzalita a dalším.</p><p><strong> </st
 rong></p><p> </p>
CATEGORIES:Fóra CPK
ORGANIZER;CN="Halka Kolaříková":MAILTO:kolarikova@prf.cuni.cz
URL;VALUE=URI:https://komparatistika.cz/cs/events/event/zakladni-pojmy-deli
 ktni-odpovednosti/
END:VEVENT
BEGIN:VTIMEZONE
TZID:Europe/Prague
BEGIN:DAYLIGHT
TZOFFSETFROM:+0100
TZOFFSETTO:+0200
DTSTART:20150329T010000
TZNAME:CEST
END:DAYLIGHT
END:VTIMEZONE
END:VCALENDAR
