BEGIN:VCALENDAR
VERSION:2.0
PRODID:-//Centrum právní komparatistiky//NONSGML Events//EN
CALSCALE:GREGORIAN
X-ORIGINAL-URL:https://komparatistika.cz/cs/events/event/
X-WR-CALDESC:Centrum právní komparatistiky - Events
BEGIN:VEVENT
UID:20190928T1445Z-1569681937.1143-EO-1942-1@195.113.8.40
STATUS:CONFIRMED
DTSTAMP:20260422T193825Z
CREATED:20190928T114829Z
LAST-MODIFIED:20190930T174045Z
DTSTART;TZID=Europe/Prague:20191121T173000
DTEND;TZID=Europe/Prague:20191121T190000
SUMMARY: Život po smrti – jak dlouho? Postmortální omezení subjektivních pr
 áv
DESCRIPTION: H. Schack\, Univerzita Kiel\, Život po smrti - jak dlouho? Pos
 tmortální omezení subjektivních práv\, 21.11.2019\, od 17.30\, místnost č. 
 401
X-ALT-DESC;FMTTYPE=text/html: <p>Prof. Haimo Schack\, Univerzita Kiel</p><p
 >Přednáška se zabývá postmortálními omezeními subjektivních práv člověka. V
 ýchodiskem je univerzální sukcese v německém právu\, jež znamená přechod ve
 škerého majetku zůstavitele na dědice. Z tohoto majetku jsou však vyloučena
  osobnostní práva\, přičemž omezení platí i pro obecná a některá zvláštní o
 sobnostní práva. Závažné etické problémy přináší genetická pozůstalost\, st
 ejně jako majetkoprávní otázky v případě digitální pozůstalosti. Jde zčásti
  o tradiční\, zčásti však naprosto nové fenomény\, které přináší rozvoj tec
 hnologií.</p><p> </p><p> </p><p> </p>
CATEGORIES:Fóra CPK
LOCATION:PF UK\, místnost č. 401
GEO:50.091431;14.416880
ORGANIZER;CN="Halka Kolaříková":MAILTO:kolarikova@prf.cuni.cz
URL;VALUE=URI:https://komparatistika.cz/cs/events/event/zivot-po-smrti-jak-
 dlouho-postmortalni-omezeni-subjektivnich-prav-prof-haimo-schack-univerzita
 -kiel/
END:VEVENT
BEGIN:VTIMEZONE
TZID:Europe/Prague
BEGIN:STANDARD
TZOFFSETFROM:+0200
TZOFFSETTO:+0100
DTSTART:20191027T010000
TZNAME:CET
END:STANDARD
END:VTIMEZONE
END:VCALENDAR
