BEGIN:VCALENDAR
VERSION:2.0
PRODID:-//Centrum právní komparatistiky//NONSGML Events//EN
CALSCALE:GREGORIAN
X-ORIGINAL-URL:https://komparatistika.cz/cs/events/event/
X-WR-CALDESC:Centrum právní komparatistiky - Events
BEGIN:VEVENT
UID:20180208T0109Z-1518052147.9647-EO-1638-1@195.113.8.40
STATUS:CONFIRMED
DTSTAMP:20260422T234943Z
CREATED:20180206T204135Z
LAST-MODIFIED:20181213T122437Z
DTSTART;TZID=Europe/Prague:20180308T173000
DTEND;TZID=Europe/Prague:20180308T190000
SUMMARY: Zveřejňování platů ve veřejném sektoru ve světle nálezu Ústavního 
 soudu
DESCRIPTION: VZ\, 8.3.\, od 17.30\, č. 401
X-ALT-DESC;FMTTYPE=text/html: <p>Přednášející: Mgr. et Mgr. Vít Zvánovec</p
 ><p><span style="font-family: 'Century Gothic'\,'sans-serif'\;"><span style
 ="color: #000000\;">Mezi právem na soukromí a právem na transparentnost je 
 polarita. Na test proporcionality odpovídají různé právní řády různě. Český
  tradičně favorizoval soukromí\, což se změnilo až dvěma rozsudky NSS\, při
 čemž zákonodárce zůstal nečinný. ÚS se vrací k tradičnímu konceptu typickém
 u pro české prostředí\, avšak test\, který nastolil\, je obtížně uchopiteln
 ý. Přednáška přiblíží pokus o jeho konceptualizaci ministerstvem vnitra.</s
 pan></span></p><p><a href="http://komparatistika.cz/wp-content/uploads/2018
 -03-08-VZ.pdf">2018-03-08 VZ</a></p><p><span style="font-family: 'Century G
 othic'\,'sans-serif'\;"><span style="color: #000000\;"> </span></span></p><
 p> </p>
CATEGORIES:Fóra CPK
LOCATION:PF UK\, místnost č. 401
GEO:50.091431;14.416880
ORGANIZER;CN="Halka Kolaříková":MAILTO:kolarikova@prf.cuni.cz
URL;VALUE=URI:https://komparatistika.cz/cs/events/event/zverejnovani-platu-
 ve-verejnem-sektoru-ve-svetle-nalezu-ustavniho-soudu/
END:VEVENT
BEGIN:VTIMEZONE
TZID:Europe/Prague
BEGIN:STANDARD
TZOFFSETFROM:+0200
TZOFFSETTO:+0100
DTSTART:20171029T010000
TZNAME:CET
END:STANDARD
END:VTIMEZONE
END:VCALENDAR
