BEGIN:VCALENDAR
VERSION:2.0
PRODID:-//Centrum právní komparatistiky//NONSGML Events//EN
CALSCALE:GREGORIAN
X-ORIGINAL-URL:https://komparatistika.cz/en/events/event/
X-WR-CALDESC:Centrum právní komparatistiky - Events
BEGIN:VEVENT
UID:20150830T0144Z-1440899078.8434-EO-671-1@195.113.8.40
STATUS:CONFIRMED
DTSTAMP:20260425T140052Z
CREATED:20150820T100423Z
LAST-MODIFIED:20150820T100513Z
DTSTART;TZID=Europe/Prague:20150813T140000
DTEND;TZID=Europe/Prague:20150814T120000
SUMMARY: Litigation US Style: An Introduction\, August 13 – 14\, 2015
DESCRIPTION: James E. Pfander\, Northwestern University School of Law\, Chi
 cago\, Illinois
X-ALT-DESC;FMTTYPE=text/html: <p>James E. Pfander\, Northwestern University
  School of Law\, Chicago\, Illinois</p>
CATEGORIES:Seminars
ORGANIZER;CN="Halka Kolaříková":MAILTO:kolarikova@prf.cuni.cz
URL;VALUE=URI:https://komparatistika.cz/en/events/event/litigation-us-style
 -an-introduction-august-13-14-2015/
END:VEVENT
BEGIN:VTIMEZONE
TZID:Europe/Prague
BEGIN:DAYLIGHT
TZOFFSETFROM:+0100
TZOFFSETTO:+0200
DTSTART:20150329T010000
TZNAME:CEST
END:DAYLIGHT
END:VTIMEZONE
END:VCALENDAR
